BEGIN:VCALENDAR
VERSION:2.0
PRODID:-//Theresa Britt - ECPv6.15.20//NONSGML v1.0//EN
CALSCALE:GREGORIAN
METHOD:PUBLISH
X-ORIGINAL-URL:https://theresabritt.com
X-WR-CALDESC:Events for Theresa Britt
REFRESH-INTERVAL;VALUE=DURATION:PT1H
X-Robots-Tag:noindex
X-PUBLISHED-TTL:PT1H
BEGIN:VTIMEZONE
TZID:America/Chicago
BEGIN:DAYLIGHT
TZOFFSETFROM:-0600
TZOFFSETTO:-0500
TZNAME:CDT
DTSTART:20240310T080000
END:DAYLIGHT
BEGIN:STANDARD
TZOFFSETFROM:-0500
TZOFFSETTO:-0600
TZNAME:CST
DTSTART:20241103T070000
END:STANDARD
BEGIN:DAYLIGHT
TZOFFSETFROM:-0600
TZOFFSETTO:-0500
TZNAME:CDT
DTSTART:20250309T080000
END:DAYLIGHT
BEGIN:STANDARD
TZOFFSETFROM:-0500
TZOFFSETTO:-0600
TZNAME:CST
DTSTART:20251102T070000
END:STANDARD
BEGIN:DAYLIGHT
TZOFFSETFROM:-0600
TZOFFSETTO:-0500
TZNAME:CDT
DTSTART:20260308T080000
END:DAYLIGHT
BEGIN:STANDARD
TZOFFSETFROM:-0500
TZOFFSETTO:-0600
TZNAME:CST
DTSTART:20261101T070000
END:STANDARD
END:VTIMEZONE
BEGIN:VEVENT
DTSTART;TZID=America/Chicago:20250806T180000
DTEND;TZID=America/Chicago:20250806T220000
DTSTAMP:20260422T202149
CREATED:20250607T152249Z
LAST-MODIFIED:20250618T163520Z
UID:839-1754503200-1754517600@theresabritt.com
SUMMARY:Lonestar Souvenirs @ Pardners
DESCRIPTION:
URL:https://theresabritt.com/event/lonestar-souvenirs-pardners-4/
LOCATION:Pardners Nightclub 15615 Texas Highway 29\, Buchanan Dam\, TX\, United States
END:VEVENT
BEGIN:VEVENT
DTSTART;TZID=America/Chicago:20250808T200000
DTEND;TZID=America/Chicago:20250808T235500
DTSTAMP:20260422T202149
CREATED:20250607T152249Z
LAST-MODIFIED:20250618T163520Z
UID:841-1754683200-1754697300@theresabritt.com
SUMMARY:Rex McNiel Band @ Texas Star Inn
DESCRIPTION:
URL:https://theresabritt.com/event/rex-mcniel-band-texas-star-inn/
LOCATION:Texas Star Inn 7400 Bandera Rd\, San Antonio\, TX\, United States
END:VEVENT
BEGIN:VEVENT
DTSTART;TZID=America/Chicago:20250809T210000
DTEND;TZID=America/Chicago:20250810T000000
DTSTAMP:20260422T202149
CREATED:20250415T083901Z
LAST-MODIFIED:20250618T163520Z
UID:724-1754773200-1754784000@theresabritt.com
SUMMARY:Rex McNeil Band @ The Den
DESCRIPTION:
URL:https://theresabritt.com/event/rex-mcneil-band-the-den/
LOCATION:La Vernia\, TX\nUnited States
END:VEVENT
BEGIN:VEVENT
DTSTART;TZID=America/Chicago:20250810T140000
DTEND;TZID=America/Chicago:20250810T160000
DTSTAMP:20260422T202149
CREATED:20250124T062938Z
LAST-MODIFIED:20250618T163520Z
UID:210-1754834400-1754841600@theresabritt.com
SUMMARY:Fiddle Jam @ Pint & Plow
DESCRIPTION:
URL:https://theresabritt.com/event/fiddle-jam-pint-plow-12/
END:VEVENT
BEGIN:VEVENT
DTSTART;TZID=America/Chicago:20250822T190000
DTEND;TZID=America/Chicago:20250822T220000
DTSTAMP:20260422T202149
CREATED:20250612T161008Z
LAST-MODIFIED:20250618T163520Z
UID:854-1755889200-1755900000@theresabritt.com
SUMMARY:Private Event with Kim Carson
DESCRIPTION:
URL:https://theresabritt.com/event/private-event-with-kim-carson/
LOCATION:Kerrville\, TX
END:VEVENT
BEGIN:VEVENT
DTSTART;TZID=America/Chicago:20250824T180000
DTEND;TZID=America/Chicago:20250824T200000
DTSTAMP:20260422T202149
CREATED:20250422T085023Z
LAST-MODIFIED:20250508T105037Z
UID:740-1756058400-1756065600@theresabritt.com
SUMMARY:FCO Rehearsal
DESCRIPTION:
URL:https://theresabritt.com/event/fco-rehearsal/
END:VEVENT
END:VCALENDAR