BEGIN:VCALENDAR
VERSION:2.0
PRODID:-//Theresa Britt - ECPv6.15.20//NONSGML v1.0//EN
CALSCALE:GREGORIAN
METHOD:PUBLISH
X-ORIGINAL-URL:https://theresabritt.com
X-WR-CALDESC:Events for Theresa Britt
REFRESH-INTERVAL;VALUE=DURATION:PT1H
X-Robots-Tag:noindex
X-PUBLISHED-TTL:PT1H
BEGIN:VTIMEZONE
TZID:America/Chicago
BEGIN:DAYLIGHT
TZOFFSETFROM:-0600
TZOFFSETTO:-0500
TZNAME:CDT
DTSTART:20240310T080000
END:DAYLIGHT
BEGIN:STANDARD
TZOFFSETFROM:-0500
TZOFFSETTO:-0600
TZNAME:CST
DTSTART:20241103T070000
END:STANDARD
BEGIN:DAYLIGHT
TZOFFSETFROM:-0600
TZOFFSETTO:-0500
TZNAME:CDT
DTSTART:20250309T080000
END:DAYLIGHT
BEGIN:STANDARD
TZOFFSETFROM:-0500
TZOFFSETTO:-0600
TZNAME:CST
DTSTART:20251102T070000
END:STANDARD
BEGIN:DAYLIGHT
TZOFFSETFROM:-0600
TZOFFSETTO:-0500
TZNAME:CDT
DTSTART:20260308T080000
END:DAYLIGHT
BEGIN:STANDARD
TZOFFSETFROM:-0500
TZOFFSETTO:-0600
TZNAME:CST
DTSTART:20261101T070000
END:STANDARD
END:VTIMEZONE
BEGIN:VEVENT
DTSTART;TZID=America/Chicago:20250404T190000
DTEND;TZID=America/Chicago:20250404T230000
DTSTAMP:20260423T020948
CREATED:20250124T062937Z
LAST-MODIFIED:20250618T163518Z
UID:201-1743793200-1743807600@theresabritt.com
SUMMARY:Rex McNeil @ VFW in Schertz
DESCRIPTION:
URL:https://theresabritt.com/event/rex-mcneil-vfw-in-schertz-2/
LOCATION:VFW 1000 John E Peterson Blvd\, Schertz\, TX\, United States
END:VEVENT
BEGIN:VEVENT
DTSTART;TZID=America/Chicago:20250413T140000
DTEND;TZID=America/Chicago:20250413T160000
DTSTAMP:20260423T020948
CREATED:20250124T062937Z
LAST-MODIFIED:20250618T163518Z
UID:202-1744552800-1744560000@theresabritt.com
SUMMARY:Fiddle Jam @ Pint & Plow
DESCRIPTION:
URL:https://theresabritt.com/event/fiddle-jam-pint-plow-8/
END:VEVENT
BEGIN:VEVENT
DTSTART;TZID=America/Chicago:20250418T190000
DTEND;TZID=America/Chicago:20250418T200000
DTSTAMP:20260423T020948
CREATED:20250304T055025Z
LAST-MODIFIED:20250618T163518Z
UID:661-1745002800-1745006400@theresabritt.com
SUMMARY:Good Friday Service @ Fredericksburg United Methodist
DESCRIPTION:
URL:https://theresabritt.com/event/good-friday-service-fredericksburg-united-methodist/
LOCATION:Fredericksburg United Methodist Church 1800 N Llano St\, Fredericksburg\, TX\, United States
END:VEVENT
BEGIN:VEVENT
DTSTART;TZID=America/Chicago:20250418T193000
DTEND;TZID=America/Chicago:20250418T233000
DTSTAMP:20260423T020948
CREATED:20250217T080516Z
LAST-MODIFIED:20250303T055143Z
UID:433-1745004600-1745019000@theresabritt.com
SUMMARY:Rex McNeil @ Texas Prode
DESCRIPTION:730-1130
URL:https://theresabritt.com/event/rex-mcneil-texas-prode/
LOCATION:Texas Pride Barbecue 2980 E loop 1604\, Adkins\, TX\, United States
END:VEVENT
BEGIN:VEVENT
DTSTART;TZID=America/Chicago:20250419T200000
DTEND;TZID=America/Chicago:20250420T000000
DTSTAMP:20260423T020948
CREATED:20250124T062937Z
LAST-MODIFIED:20250618T163518Z
UID:204-1745092800-1745107200@theresabritt.com
SUMMARY:Rex McNiel band @ The Den
DESCRIPTION:
URL:https://theresabritt.com/event/rex-mcniel-band-the-den/
LOCATION:The Den Cozy Down & Dig In 484 Bluebonnet Rd\, La Vernia\, TX\, United States
END:VEVENT
BEGIN:VEVENT
DTSTART;TZID=America/Chicago:20250425T170000
DTEND;TZID=America/Chicago:20250425T190000
DTSTAMP:20260423T020948
CREATED:20250130T065013Z
LAST-MODIFIED:20250414T083531Z
UID:383-1745600400-1745607600@theresabritt.com
SUMMARY:String Quartet @ Hill Country Arts Festival
DESCRIPTION:
URL:https://theresabritt.com/event/string-quartet-hill-country-arts-festival/
LOCATION:Hill Country Arts Foundation 120 Point Theatre Rd\, Ingram\, TX\, United States
END:VEVENT
BEGIN:VEVENT
DTSTART;TZID=America/Chicago:20250425T210000
DTEND;TZID=America/Chicago:20250426T010000
DTSTAMP:20260423T020948
CREATED:20250415T083900Z
LAST-MODIFIED:20250618T163518Z
UID:717-1745614800-1745629200@theresabritt.com
SUMMARY:Rex McNeil Band @ Country Nights
DESCRIPTION:
URL:https://theresabritt.com/event/rex-mcneil-band-country-nights/
LOCATION:Country nights club 12130 O’Connor Rd\, San Antonio\, TX\, United States
END:VEVENT
BEGIN:VEVENT
DTSTART;TZID=America/Chicago:20250426T180000
DTEND;TZID=America/Chicago:20250426T210000
DTSTAMP:20260423T020948
CREATED:20250124T062937Z
LAST-MODIFIED:20250618T163518Z
UID:205-1745690400-1745701200@theresabritt.com
SUMMARY:Rex McNiel Band @ Del Webb
DESCRIPTION:
URL:https://theresabritt.com/event/rex-mcniel-band-del-webb/
END:VEVENT
BEGIN:VEVENT
DTSTART;TZID=America/Chicago:20250427T150000
DTEND;TZID=America/Chicago:20250427T183000
DTSTAMP:20260423T020948
CREATED:20250124T062937Z
LAST-MODIFIED:20250618T163518Z
UID:206-1745766000-1745778600@theresabritt.com
SUMMARY:Rex McNeil @ Geronimo  VFW
DESCRIPTION:
URL:https://theresabritt.com/event/rex-mcneil-geronimo-vfw/
END:VEVENT
END:VCALENDAR