BEGIN:VCALENDAR
VERSION:2.0
PRODID:-//Theresa Britt - ECPv6.15.20//NONSGML v1.0//EN
CALSCALE:GREGORIAN
METHOD:PUBLISH
X-WR-CALNAME:Theresa Britt
X-ORIGINAL-URL:https://theresabritt.com
X-WR-CALDESC:Events for Theresa Britt
REFRESH-INTERVAL;VALUE=DURATION:PT1H
X-Robots-Tag:noindex
X-PUBLISHED-TTL:PT1H
BEGIN:VTIMEZONE
TZID:America/Chicago
BEGIN:DAYLIGHT
TZOFFSETFROM:-0600
TZOFFSETTO:-0500
TZNAME:CDT
DTSTART:20240310T080000
END:DAYLIGHT
BEGIN:STANDARD
TZOFFSETFROM:-0500
TZOFFSETTO:-0600
TZNAME:CST
DTSTART:20241103T070000
END:STANDARD
BEGIN:DAYLIGHT
TZOFFSETFROM:-0600
TZOFFSETTO:-0500
TZNAME:CDT
DTSTART:20250309T080000
END:DAYLIGHT
BEGIN:STANDARD
TZOFFSETFROM:-0500
TZOFFSETTO:-0600
TZNAME:CST
DTSTART:20251102T070000
END:STANDARD
BEGIN:DAYLIGHT
TZOFFSETFROM:-0600
TZOFFSETTO:-0500
TZNAME:CDT
DTSTART:20260308T080000
END:DAYLIGHT
BEGIN:STANDARD
TZOFFSETFROM:-0500
TZOFFSETTO:-0600
TZNAME:CST
DTSTART:20261101T070000
END:STANDARD
END:VTIMEZONE
BEGIN:VEVENT
DTSTART;TZID=America/Chicago:20250228T210000
DTEND;TZID=America/Chicago:20250301T010000
DTSTAMP:20260423T033344
CREATED:20250124T062937Z
LAST-MODIFIED:20250618T163516Z
UID:192-1740776400-1740790800@theresabritt.com
SUMMARY:Rex McNeil @ Country Nights
DESCRIPTION:
URL:https://theresabritt.com/event/rex-mcneil-country-nights/
LOCATION:Country nights club 12130 O’Connor Rd\, San Antonio\, TX\, United States
END:VEVENT
BEGIN:VEVENT
DTSTART;TZID=America/Chicago:20250307T190000
DTEND;TZID=America/Chicago:20250307T230000
DTSTAMP:20260423T033344
CREATED:20250124T062937Z
LAST-MODIFIED:20250618T163517Z
UID:194-1741374000-1741388400@theresabritt.com
SUMMARY:Rex McNeil @ VFW in Schertz
DESCRIPTION:
URL:https://theresabritt.com/event/rex-mcneil-vfw-in-schertz/
LOCATION:VFW 1000 John E Peterson Blvd\, Schertz\, TX\, United States
END:VEVENT
BEGIN:VEVENT
DTSTART;TZID=America/Chicago:20250309T140000
DTEND;TZID=America/Chicago:20250309T160000
DTSTAMP:20260423T033344
CREATED:20250124T062937Z
LAST-MODIFIED:20250618T163517Z
UID:195-1741528800-1741536000@theresabritt.com
SUMMARY:Fiddle Jam @ Pint & Plow
DESCRIPTION:
URL:https://theresabritt.com/event/fiddle-jam-pint-plow-7/
END:VEVENT
BEGIN:VEVENT
DTSTART;TZID=America/Chicago:20250314T170000
DTEND;TZID=America/Chicago:20250314T193000
DTSTAMP:20260423T033344
CREATED:20250304T055024Z
LAST-MODIFIED:20250618T163517Z
UID:656-1741971600-1741980600@theresabritt.com
SUMMARY:Private Event with Chris Guerrero
DESCRIPTION:
URL:https://theresabritt.com/event/private-event-with-chris-guerrero/
LOCATION:The Redberry Estate 856 Gembler Rd\, San Antonio\, TX\, United States
END:VEVENT
BEGIN:VEVENT
DTSTART;TZID=America/Chicago:20250314T213000
DTEND;TZID=America/Chicago:20250315T013000
DTSTAMP:20260423T033344
CREATED:20250217T080515Z
LAST-MODIFIED:20250618T163517Z
UID:431-1741987800-1742002200@theresabritt.com
SUMMARY:Rex McNiel @ Bucks Saloon
DESCRIPTION:
URL:https://theresabritt.com/event/rex-mcniel-bucks-saloon/
LOCATION:Buck’s Saloon 3751 E Loop 1604 S\, Adkins\, TX\, United States
END:VEVENT
BEGIN:VEVENT
DTSTART;TZID=America/Chicago:20250315T213000
DTEND;TZID=America/Chicago:20250316T003000
DTSTAMP:20260423T033344
CREATED:20250304T055024Z
LAST-MODIFIED:20250618T163517Z
UID:658-1742074200-1742085000@theresabritt.com
SUMMARY:Rex McNeil Band @ Spirits Bar
DESCRIPTION:
URL:https://theresabritt.com/event/rex-mcneil-band-spirits-bar/
LOCATION:Rio Medina\nUnited States
END:VEVENT
BEGIN:VEVENT
DTSTART;TZID=America/Chicago:20250321T180000
DTEND;TZID=America/Chicago:20250321T210000
DTSTAMP:20260423T033344
CREATED:20250124T062937Z
LAST-MODIFIED:20250618T163517Z
UID:197-1742580000-1742590800@theresabritt.com
SUMMARY:Titus & Friends @ The Club
DESCRIPTION:
URL:https://theresabritt.com/event/titus-friends-the-club/
LOCATION:The Club at Barons CreekSide 316 Goehmann Ln\, Fredericksburg\, TX\, United States
END:VEVENT
BEGIN:VEVENT
DTSTART;TZID=America/Chicago:20250322T170000
DTEND;TZID=America/Chicago:20250322T180000
DTSTAMP:20260423T033344
CREATED:20250130T065012Z
LAST-MODIFIED:20250618T163517Z
UID:379-1742662800-1742666400@theresabritt.com
SUMMARY:Texas Double Shot @ Lytle Music Festival
DESCRIPTION:
URL:https://theresabritt.com/event/texas-double-shot-lytle-music-festival/
LOCATION:John Lott Municipal Park 15059 Adams St\, Lytle\, TX\, United States
END:VEVENT
BEGIN:VEVENT
DTSTART;TZID=America/Chicago:20250322T210000
DTEND;TZID=America/Chicago:20250323T010000
DTSTAMP:20260423T033344
CREATED:20250130T065012Z
LAST-MODIFIED:20250618T163517Z
UID:381-1742677200-1742691600@theresabritt.com
SUMMARY:Texas Double Shot @ 151 Saloon
DESCRIPTION:
URL:https://theresabritt.com/event/texas-double-shot-151-saloon/
LOCATION:151 Saloon 10619 Westover Hills Blvd\, San Antonio\, TX\, United States
END:VEVENT
BEGIN:VEVENT
DTSTART;TZID=America/Chicago:20250328T180000
DTEND;TZID=America/Chicago:20250328T210000
DTSTAMP:20260423T033344
CREATED:20250124T062937Z
LAST-MODIFIED:20250618T163517Z
UID:199-1743184800-1743195600@theresabritt.com
SUMMARY:Titus & TB and the Tall Boys
DESCRIPTION:
URL:https://theresabritt.com/event/titus-tb-and-the-tall-boys/
LOCATION:Pecan Grove Store 5244 N State Highway 16\, Fredericksburg\, TX\, United States
END:VEVENT
BEGIN:VEVENT
DTSTART;TZID=America/Chicago:20250329T210000
DTEND;TZID=America/Chicago:20250330T010000
DTSTAMP:20260423T033344
CREATED:20250210T073518Z
LAST-MODIFIED:20250618T163517Z
UID:420-1743282000-1743296400@theresabritt.com
SUMMARY:Rex McNeil Band @ Seguin\, TX
DESCRIPTION:
URL:https://theresabritt.com/event/rex-mcneil-band-seguin-tx/
LOCATION:Polecat’s 23230 SH-123\, Seguin\, TX\, United States
END:VEVENT
BEGIN:VEVENT
DTSTART;TZID=America/Chicago:20250330T140000
DTEND;TZID=America/Chicago:20250330T180000
DTSTAMP:20260423T033344
CREATED:20250304T055025Z
LAST-MODIFIED:20250618T163517Z
UID:660-1743343200-1743357600@theresabritt.com
SUMMARY:Lonestar Souvenirs @ Pardners
DESCRIPTION:
URL:https://theresabritt.com/event/lonestar-souvenirs-pardners/
LOCATION:Pardners Nightclub 15615 Texas Highway 29\, Buchanan Dam\, TX\, United States
END:VEVENT
END:VCALENDAR