BEGIN:VCALENDAR
VERSION:2.0
PRODID:-//Theresa Britt - ECPv6.15.20//NONSGML v1.0//EN
CALSCALE:GREGORIAN
METHOD:PUBLISH
X-ORIGINAL-URL:https://theresabritt.com
X-WR-CALDESC:Events for Theresa Britt
REFRESH-INTERVAL;VALUE=DURATION:PT1H
X-Robots-Tag:noindex
X-PUBLISHED-TTL:PT1H
BEGIN:VTIMEZONE
TZID:America/Chicago
BEGIN:DAYLIGHT
TZOFFSETFROM:-0600
TZOFFSETTO:-0500
TZNAME:CDT
DTSTART:20240310T080000
END:DAYLIGHT
BEGIN:STANDARD
TZOFFSETFROM:-0500
TZOFFSETTO:-0600
TZNAME:CST
DTSTART:20241103T070000
END:STANDARD
BEGIN:DAYLIGHT
TZOFFSETFROM:-0600
TZOFFSETTO:-0500
TZNAME:CDT
DTSTART:20250309T080000
END:DAYLIGHT
BEGIN:STANDARD
TZOFFSETFROM:-0500
TZOFFSETTO:-0600
TZNAME:CST
DTSTART:20251102T070000
END:STANDARD
BEGIN:DAYLIGHT
TZOFFSETFROM:-0600
TZOFFSETTO:-0500
TZNAME:CDT
DTSTART:20260308T080000
END:DAYLIGHT
BEGIN:STANDARD
TZOFFSETFROM:-0500
TZOFFSETTO:-0600
TZNAME:CST
DTSTART:20261101T070000
END:STANDARD
END:VTIMEZONE
BEGIN:VEVENT
DTSTART;TZID=America/Chicago:20250201T213000
DTEND;TZID=America/Chicago:20250202T003000
DTSTAMP:20260423T045540
CREATED:20250127T065018Z
LAST-MODIFIED:20250618T163516Z
UID:331-1738445400-1738456200@theresabritt.com
SUMMARY:Allan Hendrickson Band @ El Honky Tonk
DESCRIPTION:
URL:https://theresabritt.com/event/allan-hendrickson-band-el-honky-tonk/
END:VEVENT
BEGIN:VEVENT
DTSTART;TZID=America/Chicago:20250202T150000
DTEND;TZID=America/Chicago:20250202T183000
DTSTAMP:20260423T045540
CREATED:20250124T062936Z
LAST-MODIFIED:20250618T163516Z
UID:182-1738508400-1738521000@theresabritt.com
SUMMARY:Rex McNeil Band
DESCRIPTION:
URL:https://theresabritt.com/event/rex-mcneil-band/
LOCATION:Geronimo Memorial VFW Post 8456 6808 SH-123\, Seguin\, TX\, United States
END:VEVENT
BEGIN:VEVENT
DTSTART;TZID=America/Chicago:20250206T203000
DTEND;TZID=America/Chicago:20250207T003000
DTSTAMP:20260423T045540
CREATED:20250124T062936Z
LAST-MODIFIED:20250618T163516Z
UID:183-1738873800-1738888200@theresabritt.com
SUMMARY:Bret Mullins Band @ San Antonio Rodeo
DESCRIPTION:
URL:https://theresabritt.com/event/bret-mullins-band-san-antonio-rodeo/
END:VEVENT
BEGIN:VEVENT
DTSTART;TZID=America/Chicago:20250207T173000
DTEND;TZID=America/Chicago:20250207T223000
DTSTAMP:20260423T045540
CREATED:20250124T062937Z
LAST-MODIFIED:20250618T163516Z
UID:184-1738949400-1738967400@theresabritt.com
SUMMARY:Bret Mullins Band @ San Antonio Rodeo
DESCRIPTION:
URL:https://theresabritt.com/event/bret-mullins-band-san-antonio-rodeo-2/
END:VEVENT
BEGIN:VEVENT
DTSTART;TZID=America/Chicago:20250209T140000
DTEND;TZID=America/Chicago:20250209T160000
DTSTAMP:20260423T045540
CREATED:20250124T062937Z
LAST-MODIFIED:20250618T163516Z
UID:185-1739109600-1739116800@theresabritt.com
SUMMARY:Fiddle Jam @ Pint & Plow
DESCRIPTION:
URL:https://theresabritt.com/event/fiddle-jam-pint-plow-6/
END:VEVENT
BEGIN:VEVENT
DTSTART;TZID=America/Chicago:20250214T173000
DTEND;TZID=America/Chicago:20250214T223000
DTSTAMP:20260423T045540
CREATED:20250124T062937Z
LAST-MODIFIED:20250618T163516Z
UID:186-1739554200-1739572200@theresabritt.com
SUMMARY:Bret Mullins Band @ San Antonio Rodeo
DESCRIPTION:
URL:https://theresabritt.com/event/bret-mullins-band-san-antonio-rodeo-3/
END:VEVENT
BEGIN:VEVENT
DTSTART;TZID=America/Chicago:20250215T190000
DTEND;TZID=America/Chicago:20250215T230000
DTSTAMP:20260423T045540
CREATED:20250124T062937Z
LAST-MODIFIED:20250618T163516Z
UID:188-1739646000-1739660400@theresabritt.com
SUMMARY:Double Shot @ Black and Red Ball in Bandera
DESCRIPTION:
URL:https://theresabritt.com/event/double-shot-black-and-red-ball-in-bandera/
LOCATION:Bandera\nUnited States
END:VEVENT
BEGIN:VEVENT
DTSTART;TZID=America/Chicago:20250222T150000
DTEND;TZID=America/Chicago:20250222T170000
DTSTAMP:20260423T045540
CREATED:20250124T062937Z
LAST-MODIFIED:20250618T163516Z
UID:189-1740236400-1740243600@theresabritt.com
SUMMARY:Frumpkin fest
DESCRIPTION:
URL:https://theresabritt.com/event/frumpkin-fest/
END:VEVENT
BEGIN:VEVENT
DTSTART;TZID=America/Chicago:20250227T190000
DTEND;TZID=America/Chicago:20250227T210000
DTSTAMP:20260423T045540
CREATED:20250124T062937Z
LAST-MODIFIED:20250618T163516Z
UID:190-1740682800-1740690000@theresabritt.com
SUMMARY:Symphony of the Hills @ Cailloux Theater
DESCRIPTION:
URL:https://theresabritt.com/event/symphony-of-the-hills-cailloux-theater-2/
LOCATION:Cailloux Theater 910 Main St\, Kerrville\, TX\, United States
END:VEVENT
BEGIN:VEVENT
DTSTART;TZID=America/Chicago:20250228T210000
DTEND;TZID=America/Chicago:20250301T010000
DTSTAMP:20260423T045540
CREATED:20250124T062937Z
LAST-MODIFIED:20250618T163516Z
UID:192-1740776400-1740790800@theresabritt.com
SUMMARY:Rex McNeil @ Country Nights
DESCRIPTION:
URL:https://theresabritt.com/event/rex-mcneil-country-nights/
LOCATION:Country nights club 12130 O’Connor Rd\, San Antonio\, TX\, United States
END:VEVENT
END:VCALENDAR