BEGIN:VCALENDAR
VERSION:2.0
PRODID:-//Theresa Britt - ECPv6.15.20//NONSGML v1.0//EN
CALSCALE:GREGORIAN
METHOD:PUBLISH
X-WR-CALNAME:Theresa Britt
X-ORIGINAL-URL:https://theresabritt.com
X-WR-CALDESC:Events for Theresa Britt
REFRESH-INTERVAL;VALUE=DURATION:PT1H
X-Robots-Tag:noindex
X-PUBLISHED-TTL:PT1H
BEGIN:VTIMEZONE
TZID:America/Chicago
BEGIN:DAYLIGHT
TZOFFSETFROM:-0600
TZOFFSETTO:-0500
TZNAME:CDT
DTSTART:20230312T080000
END:DAYLIGHT
BEGIN:STANDARD
TZOFFSETFROM:-0500
TZOFFSETTO:-0600
TZNAME:CST
DTSTART:20231105T070000
END:STANDARD
BEGIN:DAYLIGHT
TZOFFSETFROM:-0600
TZOFFSETTO:-0500
TZNAME:CDT
DTSTART:20240310T080000
END:DAYLIGHT
BEGIN:STANDARD
TZOFFSETFROM:-0500
TZOFFSETTO:-0600
TZNAME:CST
DTSTART:20241103T070000
END:STANDARD
BEGIN:DAYLIGHT
TZOFFSETFROM:-0600
TZOFFSETTO:-0500
TZNAME:CDT
DTSTART:20250309T080000
END:DAYLIGHT
BEGIN:STANDARD
TZOFFSETFROM:-0500
TZOFFSETTO:-0600
TZNAME:CST
DTSTART:20251102T070000
END:STANDARD
BEGIN:DAYLIGHT
TZOFFSETFROM:-0600
TZOFFSETTO:-0500
TZNAME:CDT
DTSTART:20260308T080000
END:DAYLIGHT
BEGIN:STANDARD
TZOFFSETFROM:-0500
TZOFFSETTO:-0600
TZNAME:CST
DTSTART:20261101T070000
END:STANDARD
END:VTIMEZONE
BEGIN:VEVENT
DTSTART;TZID=America/Chicago:20241201T140000
DTEND;TZID=America/Chicago:20241201T160000
DTSTAMP:20260423T074041
CREATED:20250124T062934Z
LAST-MODIFIED:20250618T163513Z
UID:133-1733061600-1733068800@theresabritt.com
SUMMARY:Fiddle Jam @ Pint & Plow
DESCRIPTION:
URL:https://theresabritt.com/event/fiddle-jam-pint-plow-4/
END:VEVENT
BEGIN:VEVENT
DTSTART;TZID=America/Chicago:20241205T190000
DTEND;TZID=America/Chicago:20241205T210000
DTSTAMP:20260423T074041
CREATED:20250124T062934Z
LAST-MODIFIED:20250618T163513Z
UID:135-1733425200-1733432400@theresabritt.com
SUMMARY:Symphony of the Hills Concert
DESCRIPTION:
URL:https://theresabritt.com/event/symphony-of-the-hills-concert/
LOCATION:Cailloux Theater 910 Main St\, Kerrville\, TX\, United States
END:VEVENT
BEGIN:VEVENT
DTSTART;TZID=America/Chicago:20241208T081500
DTEND;TZID=America/Chicago:20241208T091500
DTSTAMP:20260423T074041
CREATED:20250124T062934Z
LAST-MODIFIED:20250618T163514Z
UID:136-1733645700-1733649300@theresabritt.com
SUMMARY:Kerrville FUMC Christmas Cantata
DESCRIPTION:
URL:https://theresabritt.com/event/kerrville-fumc-christmas-cantata/
END:VEVENT
BEGIN:VEVENT
DTSTART;TZID=America/Chicago:20241208T104500
DTEND;TZID=America/Chicago:20241208T114500
DTSTAMP:20260423T074041
CREATED:20250124T062934Z
LAST-MODIFIED:20250618T163514Z
UID:137-1733654700-1733658300@theresabritt.com
SUMMARY:Kerrville FUMC Christmas Cantata
DESCRIPTION:
URL:https://theresabritt.com/event/kerrville-fumc-christmas-cantata-2/
END:VEVENT
BEGIN:VEVENT
DTSTART;TZID=America/Chicago:20241209T190000
DTEND;TZID=America/Chicago:20241209T200000
DTSTAMP:20260423T074041
CREATED:20250124T062934Z
LAST-MODIFIED:20250618T163514Z
UID:140-1733770800-1733774400@theresabritt.com
SUMMARY:Vivaldi's Gloria
DESCRIPTION:
URL:https://theresabritt.com/event/vivaldis-gloria/
LOCATION:First Presbyterian Church 800 Jefferson St\, Kerrville\, TX\, United States
END:VEVENT
BEGIN:VEVENT
DTSTART;TZID=America/Chicago:20241211T193000
DTEND;TZID=America/Chicago:20241215T213000
DTSTAMP:20260423T074041
CREATED:20250124T062934Z
LAST-MODIFIED:20250618T163514Z
UID:142-1733945400-1734298200@theresabritt.com
SUMMARY:Nutcracker @ San Angelo
DESCRIPTION:
URL:https://theresabritt.com/event/nutcracker-san-angelo/
LOCATION:San Angelo\nSan Antonio\, TX\, United States
END:VEVENT
BEGIN:VEVENT
DTSTART;TZID=America/Chicago:20241217T190000
DTEND;TZID=America/Chicago:20241217T200000
DTSTAMP:20260423T074041
CREATED:20250124T062934Z
LAST-MODIFIED:20250618T163514Z
UID:144-1734462000-1734465600@theresabritt.com
SUMMARY:Messiah in Fredericksburg
DESCRIPTION:
URL:https://theresabritt.com/event/messiah-in-fredericksburg/
LOCATION:Fredericksburg United Methodist Church 1800 N Llano St\, Fredericksburg\, TX\, United States
END:VEVENT
BEGIN:VEVENT
DTSTART;TZID=America/Chicago:20241219T193000
DTEND;TZID=America/Chicago:20241219T223000
DTSTAMP:20260423T074041
CREATED:20250124T062935Z
LAST-MODIFIED:20250618T163514Z
UID:147-1734636600-1734647400@theresabritt.com
SUMMARY:Bret Mullins @ Private Event
DESCRIPTION:
URL:https://theresabritt.com/event/bret-mullins-private-event/
LOCATION:The Alamo 300 Alamo Plaza\, San Antonio\, TX\, United States
END:VEVENT
BEGIN:VEVENT
DTSTART;TZID=America/Chicago:20241220T180000
DTEND;TZID=America/Chicago:20241220T210000
DTSTAMP:20260423T074041
CREATED:20250124T062935Z
LAST-MODIFIED:20250618T163514Z
UID:150-1734717600-1734728400@theresabritt.com
SUMMARY:Western Swing Christmas @ Luckenbach\, TX
DESCRIPTION:
URL:https://theresabritt.com/event/western-swing-christmas-luckenbach-tx/
END:VEVENT
BEGIN:VEVENT
DTSTART;TZID=America/Chicago:20241222T163000
DTEND;TZID=America/Chicago:20241222T173000
DTSTAMP:20260423T074041
CREATED:20250124T062935Z
LAST-MODIFIED:20250618T163514Z
UID:153-1734885000-1734888600@theresabritt.com
SUMMARY:Hricik Family Party
DESCRIPTION:
URL:https://theresabritt.com/event/hricik-family-party/
END:VEVENT
BEGIN:VEVENT
DTSTART;TZID=America/Chicago:20241231T210000
DTEND;TZID=America/Chicago:20250101T000000
DTSTAMP:20260423T074041
CREATED:20250124T062936Z
LAST-MODIFIED:20250618T163514Z
UID:157-1735678800-1735689600@theresabritt.com
SUMMARY:Cody Widner &  Lonestar Souvenirs
DESCRIPTION:
URL:https://theresabritt.com/event/cody-widner-lonestar-souvenirs/
LOCATION:Albert Icehouse & Dancehall 5435 S. R.R. 1623\, Stonewall\, TX\, United States
END:VEVENT
END:VCALENDAR