BEGIN:VCALENDAR
VERSION:2.0
PRODID:-//Theresa Britt - ECPv6.15.20//NONSGML v1.0//EN
CALSCALE:GREGORIAN
METHOD:PUBLISH
X-WR-CALNAME:Theresa Britt
X-ORIGINAL-URL:https://theresabritt.com
X-WR-CALDESC:Events for Theresa Britt
REFRESH-INTERVAL;VALUE=DURATION:PT1H
X-Robots-Tag:noindex
X-PUBLISHED-TTL:PT1H
BEGIN:VTIMEZONE
TZID:America/Chicago
BEGIN:DAYLIGHT
TZOFFSETFROM:-0600
TZOFFSETTO:-0500
TZNAME:CDT
DTSTART:20240310T080000
END:DAYLIGHT
BEGIN:STANDARD
TZOFFSETFROM:-0500
TZOFFSETTO:-0600
TZNAME:CST
DTSTART:20241103T070000
END:STANDARD
BEGIN:DAYLIGHT
TZOFFSETFROM:-0600
TZOFFSETTO:-0500
TZNAME:CDT
DTSTART:20250309T080000
END:DAYLIGHT
BEGIN:STANDARD
TZOFFSETFROM:-0500
TZOFFSETTO:-0600
TZNAME:CST
DTSTART:20251102T070000
END:STANDARD
BEGIN:DAYLIGHT
TZOFFSETFROM:-0600
TZOFFSETTO:-0500
TZNAME:CDT
DTSTART:20260308T080000
END:DAYLIGHT
BEGIN:STANDARD
TZOFFSETFROM:-0500
TZOFFSETTO:-0600
TZNAME:CST
DTSTART:20261101T070000
END:STANDARD
END:VTIMEZONE
BEGIN:VEVENT
DTSTART;TZID=America/Chicago:20250822T190000
DTEND;TZID=America/Chicago:20250822T220000
DTSTAMP:20260422T180632
CREATED:20250612T161008Z
LAST-MODIFIED:20250618T163520Z
UID:854-1755889200-1755900000@theresabritt.com
SUMMARY:Private Event with Kim Carson
DESCRIPTION:
URL:https://theresabritt.com/event/private-event-with-kim-carson/
LOCATION:Kerrville\, TX
END:VEVENT
BEGIN:VEVENT
DTSTART;TZID=America/Chicago:20250810T140000
DTEND;TZID=America/Chicago:20250810T160000
DTSTAMP:20260422T180632
CREATED:20250124T062938Z
LAST-MODIFIED:20250618T163520Z
UID:210-1754834400-1754841600@theresabritt.com
SUMMARY:Fiddle Jam @ Pint & Plow
DESCRIPTION:
URL:https://theresabritt.com/event/fiddle-jam-pint-plow-12/
LOCATION:TX
END:VEVENT
BEGIN:VEVENT
DTSTART;TZID=America/Chicago:20250809T210000
DTEND;TZID=America/Chicago:20250810T000000
DTSTAMP:20260422T180632
CREATED:20250415T083901Z
LAST-MODIFIED:20250618T163520Z
UID:724-1754773200-1754784000@theresabritt.com
SUMMARY:Rex McNeil Band @ The Den
DESCRIPTION:
URL:https://theresabritt.com/event/rex-mcneil-band-the-den/
LOCATION:La Vernia\, TX\nUnited States
END:VEVENT
BEGIN:VEVENT
DTSTART;TZID=America/Chicago:20250808T200000
DTEND;TZID=America/Chicago:20250808T235500
DTSTAMP:20260422T180632
CREATED:20250607T152249Z
LAST-MODIFIED:20250618T163520Z
UID:841-1754683200-1754697300@theresabritt.com
SUMMARY:Rex McNiel Band @ Texas Star Inn
DESCRIPTION:
URL:https://theresabritt.com/event/rex-mcniel-band-texas-star-inn/
LOCATION:Texas Star Inn 7400 Bandera Rd\, San Antonio\, TX\, United States
END:VEVENT
BEGIN:VEVENT
DTSTART;TZID=America/Chicago:20250806T180000
DTEND;TZID=America/Chicago:20250806T220000
DTSTAMP:20260422T180632
CREATED:20250607T152249Z
LAST-MODIFIED:20250618T163520Z
UID:839-1754503200-1754517600@theresabritt.com
SUMMARY:Lonestar Souvenirs @ Pardners
DESCRIPTION:
URL:https://theresabritt.com/event/lonestar-souvenirs-pardners-4/
LOCATION:Pardners Nightclub 15615 Texas Highway 29\, Buchanan Dam\, TX\, United States
END:VEVENT
BEGIN:VEVENT
DTSTART;TZID=America/Chicago:20250725T210000
DTEND;TZID=America/Chicago:20250726T010000
DTSTAMP:20260422T180632
CREATED:20250415T083901Z
LAST-MODIFIED:20250618T163519Z
UID:722-1753477200-1753491600@theresabritt.com
SUMMARY:Rex McNeil Band @ Buck's
DESCRIPTION:
URL:https://theresabritt.com/event/rex-mcneil-band-bucks/
LOCATION:Buck’s Saloon 3751 E Loop 1604 S\, Adkins\, TX\, United States
END:VEVENT
BEGIN:VEVENT
DTSTART;TZID=America/Chicago:20250713T140000
DTEND;TZID=America/Chicago:20250713T160000
DTSTAMP:20260422T180632
CREATED:20250124T062938Z
LAST-MODIFIED:20250618T163519Z
UID:209-1752415200-1752422400@theresabritt.com
SUMMARY:Fiddle Jam @ Pint & Plow
DESCRIPTION:
URL:https://theresabritt.com/event/fiddle-jam-pint-plow-11/
LOCATION:TX
END:VEVENT
BEGIN:VEVENT
DTSTART;TZID=America/Chicago:20250702T180000
DTEND;TZID=America/Chicago:20250702T220000
DTSTAMP:20260422T180632
CREATED:20250607T152249Z
LAST-MODIFIED:20250618T163519Z
UID:838-1751479200-1751493600@theresabritt.com
SUMMARY:Lonestar Souvenirs @ Pardners
DESCRIPTION:
URL:https://theresabritt.com/event/lonestar-souvenirs-pardners-3/
LOCATION:Pardners Nightclub 15615 Texas Highway 29\, Buchanan Dam\, TX\, United States
END:VEVENT
BEGIN:VEVENT
DTSTART;TZID=America/Chicago:20250620T200000
DTEND;TZID=America/Chicago:20250621T000000
DTSTAMP:20260422T180632
CREATED:20250415T083901Z
LAST-MODIFIED:20250618T163519Z
UID:721-1750449600-1750464000@theresabritt.com
SUMMARY:Rex McNeil Band @ Mr. Jim's
DESCRIPTION:
URL:https://theresabritt.com/event/rex-mcneil-band-mr-jims/
LOCATION:Mr Jim’s Trading Post 7393 US-87 E\, 7201 Cam Grove\, San Antonio\, TX\, United States
END:VEVENT
BEGIN:VEVENT
DTSTART;TZID=America/Chicago:20250614T180000
DTEND;TZID=America/Chicago:20250614T230000
DTSTAMP:20260422T180632
CREATED:20250415T083901Z
LAST-MODIFIED:20250618T163519Z
UID:720-1749924000-1749942000@theresabritt.com
SUMMARY:Rex McNeil Band @ Private Event
DESCRIPTION:
URL:https://theresabritt.com/event/rex-mcneil-band-private-event/
LOCATION:Georgetown\, TX\nUnited States
END:VEVENT
BEGIN:VEVENT
DTSTART;TZID=America/Chicago:20250613T183000
DTEND;TZID=America/Chicago:20250613T213000
DTSTAMP:20260422T180632
CREATED:20250607T152248Z
LAST-MODIFIED:20250618T163519Z
UID:837-1749839400-1749850200@theresabritt.com
SUMMARY:Private Event w/Bret Mullins Band
DESCRIPTION:
URL:https://theresabritt.com/event/private-event-w-bret-mullins-band/
LOCATION:Buckhorn Saloon & Museum 318 E Houston St\, San Antonio\, TX\, United States
END:VEVENT
BEGIN:VEVENT
DTSTART;TZID=America/Chicago:20250608T140000
DTEND;TZID=America/Chicago:20250608T160000
DTSTAMP:20260422T180632
CREATED:20250124T062938Z
LAST-MODIFIED:20250618T163519Z
UID:208-1749391200-1749398400@theresabritt.com
SUMMARY:Fiddle Jam @ Pint & Plow
DESCRIPTION:
URL:https://theresabritt.com/event/fiddle-jam-pint-plow-10/
LOCATION:TX
END:VEVENT
BEGIN:VEVENT
DTSTART;TZID=America/Chicago:20250606T200000
DTEND;TZID=America/Chicago:20250607T000000
DTSTAMP:20260422T180632
CREATED:20250506T104311Z
LAST-MODIFIED:20250618T163519Z
UID:776-1749240000-1749254400@theresabritt.com
SUMMARY:Rex McNeil Band @ VFW Schertz
DESCRIPTION:
URL:https://theresabritt.com/event/rex-mcneil-band-vfw-schertz-2/
LOCATION:VFW Post 8315 1000 John E Peterson Blvd\, Schertz\, TX\, United States
END:VEVENT
BEGIN:VEVENT
DTSTART;TZID=America/Chicago:20250605T170000
DTEND;TZID=America/Chicago:20250605T200000
DTSTAMP:20260422T180632
CREATED:20250515T120549Z
LAST-MODIFIED:20250618T163519Z
UID:809-1749142800-1749153600@theresabritt.com
SUMMARY:Dirty Rotten Swing Band @ 1776
DESCRIPTION:Matthew and Greg Harkins
URL:https://theresabritt.com/event/dirty-rotten-swing-band-1776/
LOCATION:Full Moon Inn 3234 Luckenbach Rd\, Fredericksburg\, TX\, United States
END:VEVENT
BEGIN:VEVENT
DTSTART;TZID=America/Chicago:20250604T180000
DTEND;TZID=America/Chicago:20250604T220000
DTSTAMP:20260422T180632
CREATED:20250515T120549Z
LAST-MODIFIED:20250618T163519Z
UID:807-1749060000-1749074400@theresabritt.com
SUMMARY:Lonestar Souvenirs @ Pardners
DESCRIPTION:
URL:https://theresabritt.com/event/lonestar-souvenirs-pardners-2/
LOCATION:Pardners Nightclub 15615 Texas Highway 29\, Buchanan Dam\, TX\, United States
END:VEVENT
BEGIN:VEVENT
DTSTART;TZID=America/Chicago:20250517T210000
DTEND;TZID=America/Chicago:20250518T010000
DTSTAMP:20260422T180632
CREATED:20250217T080516Z
LAST-MODIFIED:20250618T163519Z
UID:441-1747515600-1747530000@theresabritt.com
SUMMARY:Rex McNiel @ Inn of the Hills
DESCRIPTION:730-1130
URL:https://theresabritt.com/event/rex-mcniel-inn-of-the-hills/
LOCATION:Inn of the Hills 1001 Junction Hwy\, Kerrville\, TX\, United States
END:VEVENT
BEGIN:VEVENT
DTSTART;TZID=America/Chicago:20250516T190000
DTEND;TZID=America/Chicago:20250516T220000
DTSTAMP:20260422T180632
CREATED:20250305T055237Z
LAST-MODIFIED:20250618T163518Z
UID:671-1747422000-1747432800@theresabritt.com
SUMMARY:Jesse Stratton Band @ Willow Lake
DESCRIPTION:
URL:https://theresabritt.com/event/jesse-stratton-band-willow-lake/
LOCATION:Willow Lake Watering Hole & Mercantile 110 Old Kyle Rd\, Wimberley\, TX\, United States
END:VEVENT
BEGIN:VEVENT
DTSTART;TZID=America/Chicago:20250511T140000
DTEND;TZID=America/Chicago:20250511T160000
DTSTAMP:20260422T180632
CREATED:20250124T062938Z
LAST-MODIFIED:20250618T163518Z
UID:207-1746972000-1746979200@theresabritt.com
SUMMARY:Fiddle Jam @ Pint & Plow
DESCRIPTION:
URL:https://theresabritt.com/event/fiddle-jam-pint-plow-9/
LOCATION:TX
END:VEVENT
BEGIN:VEVENT
DTSTART;TZID=America/Chicago:20250509T200000
DTEND;TZID=America/Chicago:20250510T000000
DTSTAMP:20260422T180632
CREATED:20250217T080516Z
LAST-MODIFIED:20250503T103517Z
UID:439-1746820800-1746835200@theresabritt.com
SUMMARY:Rex McNiel @ Mister Jim’s
DESCRIPTION:730-1130
URL:https://theresabritt.com/event/rex-mcniel-mister-jims/
LOCATION:Mr Jim’s Trading Post 7393 US-87 E\, 7201 Cam Grove\, San Antonio\, TX\, United States
END:VEVENT
BEGIN:VEVENT
DTSTART;TZID=America/Chicago:20250503T200000
DTEND;TZID=America/Chicago:20250504T000000
DTSTAMP:20260422T180632
CREATED:20250217T080516Z
LAST-MODIFIED:20250618T163518Z
UID:437-1746302400-1746316800@theresabritt.com
SUMMARY:Rex McNiel @ Mesquite Hall
DESCRIPTION:730-1130
URL:https://theresabritt.com/event/rex-mcniel-mesquite-hall/
LOCATION:Mesquite Hall 11663 Ford Rd\, Adkins\, TX\, United States
END:VEVENT
BEGIN:VEVENT
DTSTART;TZID=America/Chicago:20250502T200000
DTEND;TZID=America/Chicago:20250503T000000
DTSTAMP:20260422T180632
CREATED:20250217T080516Z
LAST-MODIFIED:20250618T163518Z
UID:435-1746216000-1746230400@theresabritt.com
SUMMARY:Rex McNiel @ Schertz
DESCRIPTION:730-1130
URL:https://theresabritt.com/event/rex-mcniel-schertz/
LOCATION:VFW Post 8315 1000 John E Peterson Blvd\, Schertz\, TX\, United States
END:VEVENT
BEGIN:VEVENT
DTSTART;TZID=America/Chicago:20250427T150000
DTEND;TZID=America/Chicago:20250427T183000
DTSTAMP:20260422T180632
CREATED:20250124T062937Z
LAST-MODIFIED:20250618T163518Z
UID:206-1745766000-1745778600@theresabritt.com
SUMMARY:Rex McNeil @ Geronimo  VFW
DESCRIPTION:
URL:https://theresabritt.com/event/rex-mcneil-geronimo-vfw/
LOCATION:TX
END:VEVENT
BEGIN:VEVENT
DTSTART;TZID=America/Chicago:20250426T180000
DTEND;TZID=America/Chicago:20250426T210000
DTSTAMP:20260422T180632
CREATED:20250124T062937Z
LAST-MODIFIED:20250618T163518Z
UID:205-1745690400-1745701200@theresabritt.com
SUMMARY:Rex McNiel Band @ Del Webb
DESCRIPTION:
URL:https://theresabritt.com/event/rex-mcniel-band-del-webb/
LOCATION:TX
END:VEVENT
BEGIN:VEVENT
DTSTART;TZID=America/Chicago:20250425T210000
DTEND;TZID=America/Chicago:20250426T010000
DTSTAMP:20260422T180632
CREATED:20250415T083900Z
LAST-MODIFIED:20250618T163518Z
UID:717-1745614800-1745629200@theresabritt.com
SUMMARY:Rex McNeil Band @ Country Nights
DESCRIPTION:
URL:https://theresabritt.com/event/rex-mcneil-band-country-nights/
LOCATION:Country nights club 12130 O’Connor Rd\, San Antonio\, TX\, United States
END:VEVENT
BEGIN:VEVENT
DTSTART;TZID=America/Chicago:20250425T170000
DTEND;TZID=America/Chicago:20250425T190000
DTSTAMP:20260422T180632
CREATED:20250130T065013Z
LAST-MODIFIED:20250414T083531Z
UID:383-1745600400-1745607600@theresabritt.com
SUMMARY:String Quartet @ Hill Country Arts Festival
DESCRIPTION:
URL:https://theresabritt.com/event/string-quartet-hill-country-arts-festival/
LOCATION:Hill Country Arts Foundation 120 Point Theatre Rd\, Ingram\, TX\, United States
END:VEVENT
BEGIN:VEVENT
DTSTART;TZID=America/Chicago:20250419T200000
DTEND;TZID=America/Chicago:20250420T000000
DTSTAMP:20260422T180632
CREATED:20250124T062937Z
LAST-MODIFIED:20250618T163518Z
UID:204-1745092800-1745107200@theresabritt.com
SUMMARY:Rex McNiel band @ The Den
DESCRIPTION:
URL:https://theresabritt.com/event/rex-mcniel-band-the-den/
LOCATION:The Den Cozy Down & Dig In 484 Bluebonnet Rd\, La Vernia\, TX\, United States
END:VEVENT
BEGIN:VEVENT
DTSTART;TZID=America/Chicago:20250418T193000
DTEND;TZID=America/Chicago:20250418T233000
DTSTAMP:20260422T180632
CREATED:20250217T080516Z
LAST-MODIFIED:20250303T055143Z
UID:433-1745004600-1745019000@theresabritt.com
SUMMARY:Rex McNeil @ Texas Prode
DESCRIPTION:730-1130
URL:https://theresabritt.com/event/rex-mcneil-texas-prode/
LOCATION:Texas Pride Barbecue 2980 E loop 1604\, Adkins\, TX\, United States
END:VEVENT
BEGIN:VEVENT
DTSTART;TZID=America/Chicago:20250418T190000
DTEND;TZID=America/Chicago:20250418T200000
DTSTAMP:20260422T180632
CREATED:20250304T055025Z
LAST-MODIFIED:20250618T163518Z
UID:661-1745002800-1745006400@theresabritt.com
SUMMARY:Good Friday Service @ Fredericksburg United Methodist
DESCRIPTION:
URL:https://theresabritt.com/event/good-friday-service-fredericksburg-united-methodist/
LOCATION:Fredericksburg United Methodist Church 1800 N Llano St\, Fredericksburg\, TX\, United States
END:VEVENT
BEGIN:VEVENT
DTSTART;TZID=America/Chicago:20250413T140000
DTEND;TZID=America/Chicago:20250413T160000
DTSTAMP:20260422T180632
CREATED:20250124T062937Z
LAST-MODIFIED:20250618T163518Z
UID:202-1744552800-1744560000@theresabritt.com
SUMMARY:Fiddle Jam @ Pint & Plow
DESCRIPTION:
URL:https://theresabritt.com/event/fiddle-jam-pint-plow-8/
LOCATION:TX
END:VEVENT
BEGIN:VEVENT
DTSTART;TZID=America/Chicago:20250404T190000
DTEND;TZID=America/Chicago:20250404T230000
DTSTAMP:20260422T180632
CREATED:20250124T062937Z
LAST-MODIFIED:20250618T163518Z
UID:201-1743793200-1743807600@theresabritt.com
SUMMARY:Rex McNeil @ VFW in Schertz
DESCRIPTION:
URL:https://theresabritt.com/event/rex-mcneil-vfw-in-schertz-2/
LOCATION:VFW 1000 John E Peterson Blvd\, Schertz\, TX\, United States
END:VEVENT
END:VCALENDAR