BEGIN:VCALENDAR
VERSION:2.0
PRODID:-//Theresa Britt - ECPv6.15.20//NONSGML v1.0//EN
CALSCALE:GREGORIAN
METHOD:PUBLISH
X-WR-CALNAME:Theresa Britt
X-ORIGINAL-URL:https://theresabritt.com
X-WR-CALDESC:Events for Theresa Britt
REFRESH-INTERVAL;VALUE=DURATION:PT1H
X-Robots-Tag:noindex
X-PUBLISHED-TTL:PT1H
BEGIN:VTIMEZONE
TZID:America/Chicago
BEGIN:DAYLIGHT
TZOFFSETFROM:-0600
TZOFFSETTO:-0500
TZNAME:CDT
DTSTART:20230312T080000
END:DAYLIGHT
BEGIN:STANDARD
TZOFFSETFROM:-0500
TZOFFSETTO:-0600
TZNAME:CST
DTSTART:20231105T070000
END:STANDARD
BEGIN:DAYLIGHT
TZOFFSETFROM:-0600
TZOFFSETTO:-0500
TZNAME:CDT
DTSTART:20240310T080000
END:DAYLIGHT
BEGIN:STANDARD
TZOFFSETFROM:-0500
TZOFFSETTO:-0600
TZNAME:CST
DTSTART:20241103T070000
END:STANDARD
BEGIN:DAYLIGHT
TZOFFSETFROM:-0600
TZOFFSETTO:-0500
TZNAME:CDT
DTSTART:20250309T080000
END:DAYLIGHT
BEGIN:STANDARD
TZOFFSETFROM:-0500
TZOFFSETTO:-0600
TZNAME:CST
DTSTART:20251102T070000
END:STANDARD
END:VTIMEZONE
BEGIN:VEVENT
DTSTART;TZID=America/Chicago:20241205T190000
DTEND;TZID=America/Chicago:20241205T210000
DTSTAMP:20260423T054715
CREATED:20250124T062934Z
LAST-MODIFIED:20250618T163513Z
UID:135-1733425200-1733432400@theresabritt.com
SUMMARY:Symphony of the Hills Concert
DESCRIPTION:
URL:https://theresabritt.com/event/symphony-of-the-hills-concert/
LOCATION:Cailloux Theater 910 Main St\, Kerrville\, TX\, United States
END:VEVENT
BEGIN:VEVENT
DTSTART;TZID=America/Chicago:20241201T140000
DTEND;TZID=America/Chicago:20241201T160000
DTSTAMP:20260423T054715
CREATED:20250124T062934Z
LAST-MODIFIED:20250618T163513Z
UID:133-1733061600-1733068800@theresabritt.com
SUMMARY:Fiddle Jam @ Pint & Plow
DESCRIPTION:
URL:https://theresabritt.com/event/fiddle-jam-pint-plow-4/
LOCATION:TX
END:VEVENT
BEGIN:VEVENT
DTSTART;TZID=America/Chicago:20241122T210000
DTEND;TZID=America/Chicago:20241122T230000
DTSTAMP:20260423T054715
CREATED:20250124T062933Z
LAST-MODIFIED:20250618T163513Z
UID:132-1732309200-1732316400@theresabritt.com
SUMMARY:Allan Hendrickson Band @ Helotes
DESCRIPTION:
URL:https://theresabritt.com/event/allan-hendrickson-band-helotes/
LOCATION:Pedrotti’s Ranch 13715 FM-1560 N\, Helotes\, TX\, United States
END:VEVENT
BEGIN:VEVENT
DTSTART;TZID=America/Chicago:20241117T140000
DTEND;TZID=America/Chicago:20241117T160000
DTSTAMP:20260423T054715
CREATED:20250124T062933Z
LAST-MODIFIED:20250618T163513Z
UID:130-1731852000-1731859200@theresabritt.com
SUMMARY:Fiddle Jam @ Pint & Plow
DESCRIPTION:
URL:https://theresabritt.com/event/fiddle-jam-pint-plow-3/
LOCATION:TX
END:VEVENT
BEGIN:VEVENT
DTSTART;TZID=America/Chicago:20241115T170000
DTEND;TZID=America/Chicago:20241115T210000
DTSTAMP:20260423T054715
CREATED:20250124T062933Z
LAST-MODIFIED:20250618T163513Z
UID:129-1731690000-1731704400@theresabritt.com
SUMMARY:Private Event with Rex McNeil
DESCRIPTION:
URL:https://theresabritt.com/event/private-event-with-rex-mcneil/
LOCATION:14361 La Vernia Rd\, Saint Hedwig\, TX\, United States
END:VEVENT
BEGIN:VEVENT
DTSTART;TZID=America/Chicago:20241108T190000
DTEND;TZID=America/Chicago:20241108T220000
DTSTAMP:20260423T054715
CREATED:20250124T062933Z
LAST-MODIFIED:20250618T163515Z
UID:127-1731092400-1731103200@theresabritt.com
SUMMARY:Bret Mullins Band @ Luckenbach
DESCRIPTION:
URL:https://theresabritt.com/event/bret-mullins-band-luckenbach/
LOCATION:TX
END:VEVENT
BEGIN:VEVENT
DTSTART;TZID=America/Chicago:20241102T173000
DTEND;TZID=America/Chicago:20241102T203000
DTSTAMP:20260423T054715
CREATED:20250124T062933Z
LAST-MODIFIED:20250618T163515Z
UID:126-1730568600-1730579400@theresabritt.com
SUMMARY:Dirty Rotten Swing Band @  Furniture Show
DESCRIPTION:
URL:https://theresabritt.com/event/dirty-rotten-swing-band-furniture-show/
LOCATION:TX
END:VEVENT
BEGIN:VEVENT
DTSTART;TZID=America/Chicago:20241026T163000
DTEND;TZID=America/Chicago:20241026T183000
DTSTAMP:20260423T054715
CREATED:20250124T062933Z
LAST-MODIFIED:20250618T163515Z
UID:125-1729960200-1729967400@theresabritt.com
SUMMARY:Private Event @ Fredericksburg
DESCRIPTION:
URL:https://theresabritt.com/event/private-event-fredericksburg/
LOCATION:TX
END:VEVENT
BEGIN:VEVENT
DTSTART;TZID=America/Chicago:20241020T163000
DTEND;TZID=America/Chicago:20241020T193000
DTSTAMP:20260423T054715
CREATED:20250124T062933Z
LAST-MODIFIED:20250618T163515Z
UID:124-1729441800-1729452600@theresabritt.com
SUMMARY:Allan Hendrickson Band @ Floore’s
DESCRIPTION:
URL:https://theresabritt.com/event/allan-hendrickson-band-floores/
LOCATION:John T. Floore’s 14492 Old Bandera Rd\, Helotes\, TX\, United States
END:VEVENT
BEGIN:VEVENT
DTSTART;TZID=America/Chicago:20241019T180000
DTEND;TZID=America/Chicago:20241019T190000
DTSTAMP:20260423T054715
CREATED:20250124T062933Z
LAST-MODIFIED:20250618T163515Z
UID:122-1729360800-1729364400@theresabritt.com
SUMMARY:String Quartet at Charity Ball
DESCRIPTION:
URL:https://theresabritt.com/event/string-quartet-at-charity-ball/
LOCATION:TX
END:VEVENT
BEGIN:VEVENT
DTSTART;TZID=America/Chicago:20241013T140000
DTEND;TZID=America/Chicago:20241013T160000
DTSTAMP:20260423T054715
CREATED:20250124T062933Z
LAST-MODIFIED:20250618T163515Z
UID:121-1728828000-1728835200@theresabritt.com
SUMMARY:Fiddle Jam @ Pint & Plow
DESCRIPTION:
URL:https://theresabritt.com/event/fiddle-jam-pint-plow-2/
LOCATION:TX
END:VEVENT
BEGIN:VEVENT
DTSTART;TZID=America/Chicago:20241012T180000
DTEND;TZID=America/Chicago:20241012T210000
DTSTAMP:20260423T054715
CREATED:20250124T062933Z
LAST-MODIFIED:20250618T163515Z
UID:120-1728756000-1728766800@theresabritt.com
SUMMARY:Dirty Rotten Swing Band @ Arcadia Live
DESCRIPTION:
URL:https://theresabritt.com/event/dirty-rotten-swing-band-arcadia-live/
LOCATION:The Arcadia Live Theatre 717 Water St\, Kerrville\, TX\, United States
END:VEVENT
BEGIN:VEVENT
DTSTART;TZID=America/Chicago:20241005T200000
DTEND;TZID=America/Chicago:20241005T235500
DTSTAMP:20260423T054715
CREATED:20250124T062933Z
LAST-MODIFIED:20250618T163514Z
UID:118-1728158400-1728172500@theresabritt.com
SUMMARY:Rex McNiel Band @ Falls City
DESCRIPTION:
URL:https://theresabritt.com/event/rex-mcniel-band-falls-city/
LOCATION:Falls City\nUnited States
END:VEVENT
BEGIN:VEVENT
DTSTART;TZID=America/Chicago:20240908T140000
DTEND;TZID=America/Chicago:20240908T160000
DTSTAMP:20260423T054715
CREATED:20250124T062933Z
LAST-MODIFIED:20250618T163514Z
UID:116-1725804000-1725811200@theresabritt.com
SUMMARY:Fiddle Jam @ Pint & Plow
DESCRIPTION:
URL:https://theresabritt.com/event/fiddle-jam-pint-plow/
LOCATION:TX
END:VEVENT
BEGIN:VEVENT
DTSTART;TZID=America/Chicago:20240831T180000
DTEND;TZID=America/Chicago:20240831T200000
DTSTAMP:20260423T054715
CREATED:20250124T062933Z
LAST-MODIFIED:20250618T163514Z
UID:115-1725127200-1725134400@theresabritt.com
SUMMARY:Theresa Britt & The Tall Boys @ Bankersmith
DESCRIPTION:
URL:https://theresabritt.com/event/theresa-britt-the-tall-boys-bankersmith/
LOCATION:Bankersmith\, 2 Old San Antonio Rd\, Fredericksburg\, TX\, United States
END:VEVENT
END:VCALENDAR