BEGIN:VCALENDAR
VERSION:2.0
PRODID:-//Theresa Britt - ECPv6.15.20//NONSGML v1.0//EN
CALSCALE:GREGORIAN
METHOD:PUBLISH
X-WR-CALNAME:Theresa Britt
X-ORIGINAL-URL:https://theresabritt.com
X-WR-CALDESC:Events for Theresa Britt
REFRESH-INTERVAL;VALUE=DURATION:PT1H
X-Robots-Tag:noindex
X-PUBLISHED-TTL:PT1H
BEGIN:VTIMEZONE
TZID:America/Chicago
BEGIN:DAYLIGHT
TZOFFSETFROM:-0600
TZOFFSETTO:-0500
TZNAME:CDT
DTSTART:20240310T080000
END:DAYLIGHT
BEGIN:STANDARD
TZOFFSETFROM:-0500
TZOFFSETTO:-0600
TZNAME:CST
DTSTART:20241103T070000
END:STANDARD
BEGIN:DAYLIGHT
TZOFFSETFROM:-0600
TZOFFSETTO:-0500
TZNAME:CDT
DTSTART:20250309T080000
END:DAYLIGHT
BEGIN:STANDARD
TZOFFSETFROM:-0500
TZOFFSETTO:-0600
TZNAME:CST
DTSTART:20251102T070000
END:STANDARD
BEGIN:DAYLIGHT
TZOFFSETFROM:-0600
TZOFFSETTO:-0500
TZNAME:CDT
DTSTART:20260308T080000
END:DAYLIGHT
BEGIN:STANDARD
TZOFFSETFROM:-0500
TZOFFSETTO:-0600
TZNAME:CST
DTSTART:20261101T070000
END:STANDARD
BEGIN:DAYLIGHT
TZOFFSETFROM:-0600
TZOFFSETTO:-0500
TZNAME:CDT
DTSTART:20270314T080000
END:DAYLIGHT
BEGIN:STANDARD
TZOFFSETFROM:-0500
TZOFFSETTO:-0600
TZNAME:CST
DTSTART:20271107T070000
END:STANDARD
END:VTIMEZONE
BEGIN:VEVENT
DTSTART;TZID=America/Chicago:20260510T140000
DTEND;TZID=America/Chicago:20260510T160000
DTSTAMP:20260422T174936
CREATED:20250124T062938Z
LAST-MODIFIED:20250618T163522Z
UID:219-1778421600-1778428800@theresabritt.com
SUMMARY:Fiddle Jam @ Pint & Plow
DESCRIPTION:
URL:https://theresabritt.com/event/fiddle-jam-pint-plow-21/
END:VEVENT
BEGIN:VEVENT
DTSTART;TZID=America/Chicago:20260430T190000
DTEND;TZID=America/Chicago:20260430T210000
DTSTAMP:20260422T174936
CREATED:20250509T105142Z
LAST-MODIFIED:20250618T163522Z
UID:793-1777575600-1777582800@theresabritt.com
SUMMARY:Symphony of the Hills Concert
DESCRIPTION:
URL:https://theresabritt.com/event/symphony-of-the-hills-concert-6/
LOCATION:Cailloux Theater 910 Main St\, Kerrville\, TX\, United States
END:VEVENT
BEGIN:VEVENT
DTSTART;TZID=America/Chicago:20260412T140000
DTEND;TZID=America/Chicago:20260412T160000
DTSTAMP:20260422T174936
CREATED:20250124T062938Z
LAST-MODIFIED:20250618T163522Z
UID:218-1776002400-1776009600@theresabritt.com
SUMMARY:Fiddle Jam @ Pint & Plow
DESCRIPTION:
URL:https://theresabritt.com/event/fiddle-jam-pint-plow-20/
END:VEVENT
BEGIN:VEVENT
DTSTART;TZID=America/Chicago:20260308T140000
DTEND;TZID=America/Chicago:20260308T160000
DTSTAMP:20260422T174936
CREATED:20250124T062938Z
LAST-MODIFIED:20250618T163522Z
UID:217-1772978400-1772985600@theresabritt.com
SUMMARY:Fiddle Jam @ Pint & Plow
DESCRIPTION:
URL:https://theresabritt.com/event/fiddle-jam-pint-plow-19/
END:VEVENT
BEGIN:VEVENT
DTSTART;TZID=America/Chicago:20260226T190000
DTEND;TZID=America/Chicago:20260226T210000
DTSTAMP:20260422T174936
CREATED:20250509T105142Z
LAST-MODIFIED:20250618T163521Z
UID:792-1772132400-1772139600@theresabritt.com
SUMMARY:Symphony of the Hills Concert
DESCRIPTION:
URL:https://theresabritt.com/event/symphony-of-the-hills-concert-5/
LOCATION:Cailloux Theater 910 Main St\, Kerrville\, TX\, United States
END:VEVENT
BEGIN:VEVENT
DTSTART;TZID=America/Chicago:20260208T140000
DTEND;TZID=America/Chicago:20260208T160000
DTSTAMP:20260422T174936
CREATED:20250124T062938Z
LAST-MODIFIED:20250618T163521Z
UID:216-1770559200-1770566400@theresabritt.com
SUMMARY:Fiddle Jam @ Pint & Plow
DESCRIPTION:
URL:https://theresabritt.com/event/fiddle-jam-pint-plow-18/
END:VEVENT
BEGIN:VEVENT
DTSTART;TZID=America/Chicago:20260111T140000
DTEND;TZID=America/Chicago:20260111T160000
DTSTAMP:20260422T174936
CREATED:20250124T062938Z
LAST-MODIFIED:20250618T163521Z
UID:215-1768140000-1768147200@theresabritt.com
SUMMARY:Fiddle Jam @ Pint & Plow
DESCRIPTION:
URL:https://theresabritt.com/event/fiddle-jam-pint-plow-17/
END:VEVENT
BEGIN:VEVENT
DTSTART;TZID=America/Chicago:20260103T190000
DTEND;TZID=America/Chicago:20260103T210000
DTSTAMP:20260422T174936
CREATED:20250509T105141Z
LAST-MODIFIED:20250618T163521Z
UID:791-1767466800-1767474000@theresabritt.com
SUMMARY:Symphony of the Hills Concert
DESCRIPTION:
URL:https://theresabritt.com/event/symphony-of-the-hills-concert-4/
LOCATION:Cailloux Theater 910 Main St\, Kerrville\, TX\, United States
END:VEVENT
BEGIN:VEVENT
DTSTART;TZID=America/Chicago:20251214T140000
DTEND;TZID=America/Chicago:20251214T160000
DTSTAMP:20260422T174936
CREATED:20250124T062938Z
LAST-MODIFIED:20250618T163521Z
UID:214-1765720800-1765728000@theresabritt.com
SUMMARY:Fiddle Jam @ Pint & Plow
DESCRIPTION:
URL:https://theresabritt.com/event/fiddle-jam-pint-plow-16/
END:VEVENT
BEGIN:VEVENT
DTSTART;TZID=America/Chicago:20251212T180000
DTEND;TZID=America/Chicago:20251212T200000
DTSTAMP:20260422T174936
CREATED:20250422T085024Z
LAST-MODIFIED:20250618T163521Z
UID:750-1765562400-1765569600@theresabritt.com
SUMMARY:FCO Concert
DESCRIPTION:
URL:https://theresabritt.com/event/fco-concert-2/
END:VEVENT
BEGIN:VEVENT
DTSTART;TZID=America/Chicago:20251207T180000
DTEND;TZID=America/Chicago:20251207T200000
DTSTAMP:20260422T174936
CREATED:20250422T085023Z
LAST-MODIFIED:20250508T105038Z
UID:749-1765130400-1765137600@theresabritt.com
SUMMARY:FCO Rehearsal
DESCRIPTION:
URL:https://theresabritt.com/event/fco-rehearsal-9/
END:VEVENT
BEGIN:VEVENT
DTSTART;TZID=America/Chicago:20251205T200000
DTEND;TZID=America/Chicago:20251206T000000
DTSTAMP:20260422T174936
CREATED:20250506T104312Z
LAST-MODIFIED:20250618T163521Z
UID:779-1764964800-1764979200@theresabritt.com
SUMMARY:Rex McNeil Band @ VFW Schertz
DESCRIPTION:
URL:https://theresabritt.com/event/rex-mcneil-band-vfw-schertz-5/
LOCATION:VFW Post 8315 1000 John E Peterson Blvd\, Schertz\, TX\, United States
END:VEVENT
BEGIN:VEVENT
DTSTART;TZID=America/Chicago:20251204T190000
DTEND;TZID=America/Chicago:20251204T210000
DTSTAMP:20260422T174936
CREATED:20250509T105141Z
LAST-MODIFIED:20250618T163521Z
UID:790-1764874800-1764882000@theresabritt.com
SUMMARY:Symphony of the Hills Concert
DESCRIPTION:
URL:https://theresabritt.com/event/symphony-of-the-hills-concert-3/
LOCATION:Cailloux Theater 910 Main St\, Kerrville\, TX\, United States
END:VEVENT
BEGIN:VEVENT
DTSTART;TZID=America/Chicago:20251130T180000
DTEND;TZID=America/Chicago:20251130T200000
DTSTAMP:20260422T174936
CREATED:20250422T085023Z
LAST-MODIFIED:20250508T105037Z
UID:748-1764525600-1764532800@theresabritt.com
SUMMARY:FCO Rehearsal
DESCRIPTION:
URL:https://theresabritt.com/event/fco-rehearsal-8/
END:VEVENT
BEGIN:VEVENT
DTSTART;TZID=America/Chicago:20251116T180000
DTEND;TZID=America/Chicago:20251116T200000
DTSTAMP:20260422T174936
CREATED:20250422T085023Z
LAST-MODIFIED:20250508T105037Z
UID:747-1763316000-1763323200@theresabritt.com
SUMMARY:FCO Rehearsal
DESCRIPTION:
URL:https://theresabritt.com/event/fco-rehearsal-7/
END:VEVENT
BEGIN:VEVENT
DTSTART;TZID=America/Chicago:20251109T140000
DTEND;TZID=America/Chicago:20251109T160000
DTSTAMP:20260422T174936
CREATED:20250124T062938Z
LAST-MODIFIED:20250618T163521Z
UID:213-1762696800-1762704000@theresabritt.com
SUMMARY:Fiddle Jam @ Pint & Plow
DESCRIPTION:
URL:https://theresabritt.com/event/fiddle-jam-pint-plow-15/
END:VEVENT
BEGIN:VEVENT
DTSTART;TZID=America/Chicago:20251107T200000
DTEND;TZID=America/Chicago:20251108T000000
DTSTAMP:20260422T174936
CREATED:20250506T104312Z
LAST-MODIFIED:20250618T163521Z
UID:778-1762545600-1762560000@theresabritt.com
SUMMARY:Rex McNeil Band @ VFW Schertz
DESCRIPTION:
URL:https://theresabritt.com/event/rex-mcneil-band-vfw-schertz-4/
LOCATION:VFW Post 8315 1000 John E Peterson Blvd\, Schertz\, TX\, United States
END:VEVENT
BEGIN:VEVENT
DTSTART;TZID=America/Chicago:20251102T180000
DTEND;TZID=America/Chicago:20251102T200000
DTSTAMP:20260422T174936
CREATED:20250422T085023Z
LAST-MODIFIED:20250508T105037Z
UID:746-1762106400-1762113600@theresabritt.com
SUMMARY:FCO Rehearsal
DESCRIPTION:
URL:https://theresabritt.com/event/fco-rehearsal-6/
END:VEVENT
BEGIN:VEVENT
DTSTART;TZID=America/Chicago:20251019T180000
DTEND;TZID=America/Chicago:20251019T200000
DTSTAMP:20260422T174936
CREATED:20250422T085023Z
LAST-MODIFIED:20250508T105037Z
UID:745-1760896800-1760904000@theresabritt.com
SUMMARY:FCO Rehearsal
DESCRIPTION:
URL:https://theresabritt.com/event/fco-rehearsal-5/
END:VEVENT
BEGIN:VEVENT
DTSTART;TZID=America/Chicago:20251012T140000
DTEND;TZID=America/Chicago:20251012T160000
DTSTAMP:20260422T174936
CREATED:20250124T062938Z
LAST-MODIFIED:20250618T163521Z
UID:212-1760277600-1760284800@theresabritt.com
SUMMARY:Fiddle Jam @ Pint & Plow
DESCRIPTION:
URL:https://theresabritt.com/event/fiddle-jam-pint-plow-14/
END:VEVENT
BEGIN:VEVENT
DTSTART;TZID=America/Chicago:20251010T180000
DTEND;TZID=America/Chicago:20251010T200000
DTSTAMP:20260422T174936
CREATED:20250422T085023Z
LAST-MODIFIED:20250508T105037Z
UID:744-1760119200-1760126400@theresabritt.com
SUMMARY:FCO Concert
DESCRIPTION:
URL:https://theresabritt.com/event/fco-concert/
END:VEVENT
BEGIN:VEVENT
DTSTART;TZID=America/Chicago:20251009T190000
DTEND;TZID=America/Chicago:20251009T210000
DTSTAMP:20260422T174936
CREATED:20250509T105141Z
LAST-MODIFIED:20250618T163521Z
UID:789-1760036400-1760043600@theresabritt.com
SUMMARY:Symphony of the Hills Concert
DESCRIPTION:
URL:https://theresabritt.com/event/symphony-of-the-hills-concert-2/
LOCATION:Cailloux Theater 910 Main St\, Kerrville\, TX\, United States
END:VEVENT
BEGIN:VEVENT
DTSTART;TZID=America/Chicago:20251008T130000
DTEND;TZID=America/Chicago:20251008T140000
DTSTAMP:20260422T174936
CREATED:20250509T105141Z
LAST-MODIFIED:20250618T163520Z
UID:787-1759928400-1759932000@theresabritt.com
SUMMARY:Symphony of the Hills Education Concerts
DESCRIPTION:
URL:https://theresabritt.com/event/symphony-of-the-hills-education-concerts/
LOCATION:Cailloux Theater 910 Main St\, Kerrville\, TX\, United States
END:VEVENT
BEGIN:VEVENT
DTSTART;TZID=America/Chicago:20251008T100000
DTEND;TZID=America/Chicago:20251008T140000
DTSTAMP:20260422T174936
CREATED:20250509T105141Z
LAST-MODIFIED:20250618T163520Z
UID:788-1759917600-1759932000@theresabritt.com
SUMMARY:Symphony of the Hills Education Concerts
DESCRIPTION:
URL:https://theresabritt.com/event/symphony-of-the-hills-education-concerts-2/
LOCATION:Cailloux Theater 910 Main St\, Kerrville\, TX\, United States
END:VEVENT
BEGIN:VEVENT
DTSTART;TZID=America/Chicago:20251005T180000
DTEND;TZID=America/Chicago:20251005T200000
DTSTAMP:20260422T174936
CREATED:20250422T085023Z
LAST-MODIFIED:20250508T105037Z
UID:743-1759687200-1759694400@theresabritt.com
SUMMARY:FCO Rehearsal
DESCRIPTION:
URL:https://theresabritt.com/event/fco-rehearsal-4/
END:VEVENT
BEGIN:VEVENT
DTSTART;TZID=America/Chicago:20251003T200000
DTEND;TZID=America/Chicago:20251004T000000
DTSTAMP:20260422T174936
CREATED:20250506T104312Z
LAST-MODIFIED:20250618T163520Z
UID:777-1759521600-1759536000@theresabritt.com
SUMMARY:Rex McNeil Band @ VFW Schertz
DESCRIPTION:
URL:https://theresabritt.com/event/rex-mcneil-band-vfw-schertz-3/
LOCATION:VFW Post 8315 1000 John E Peterson Blvd\, Schertz\, TX\, United States
END:VEVENT
BEGIN:VEVENT
DTSTART;TZID=America/Chicago:20250921T180000
DTEND;TZID=America/Chicago:20250921T200000
DTSTAMP:20260422T174936
CREATED:20250422T085023Z
LAST-MODIFIED:20250508T105037Z
UID:742-1758477600-1758484800@theresabritt.com
SUMMARY:FCO Rehearsal
DESCRIPTION:
URL:https://theresabritt.com/event/fco-rehearsal-3/
END:VEVENT
BEGIN:VEVENT
DTSTART;TZID=America/Chicago:20250914T140000
DTEND;TZID=America/Chicago:20250914T160000
DTSTAMP:20260422T174936
CREATED:20250124T062938Z
LAST-MODIFIED:20250618T163520Z
UID:211-1757858400-1757865600@theresabritt.com
SUMMARY:Fiddle Jam @ Pint & Plow
DESCRIPTION:
URL:https://theresabritt.com/event/fiddle-jam-pint-plow-13/
END:VEVENT
BEGIN:VEVENT
DTSTART;TZID=America/Chicago:20250907T180000
DTEND;TZID=America/Chicago:20250907T200000
DTSTAMP:20260422T174936
CREATED:20250422T085023Z
LAST-MODIFIED:20250508T105037Z
UID:741-1757268000-1757275200@theresabritt.com
SUMMARY:FCO Rehearsal
DESCRIPTION:
URL:https://theresabritt.com/event/fco-rehearsal-2/
END:VEVENT
BEGIN:VEVENT
DTSTART;TZID=America/Chicago:20250905T200000
DTEND;TZID=America/Chicago:20250906T000000
DTSTAMP:20260422T174936
CREATED:20250415T083900Z
LAST-MODIFIED:20250618T163520Z
UID:718-1757102400-1757116800@theresabritt.com
SUMMARY:Rex McNeil Band @ VFW Schertz
DESCRIPTION:
URL:https://theresabritt.com/event/rex-mcneil-band-vfw-schertz/
LOCATION:VFW Post 8315 1000 John E Peterson Blvd\, Schertz\, TX\, United States
END:VEVENT
END:VCALENDAR