BEGIN:VCALENDAR
VERSION:2.0
PRODID:-//Theresa Britt - ECPv6.15.20//NONSGML v1.0//EN
CALSCALE:GREGORIAN
METHOD:PUBLISH
X-ORIGINAL-URL:https://theresabritt.com
X-WR-CALDESC:Events for Theresa Britt
REFRESH-INTERVAL;VALUE=DURATION:PT1H
X-Robots-Tag:noindex
X-PUBLISHED-TTL:PT1H
BEGIN:VTIMEZONE
TZID:America/Chicago
BEGIN:DAYLIGHT
TZOFFSETFROM:-0600
TZOFFSETTO:-0500
TZNAME:CDT
DTSTART:20240310T080000
END:DAYLIGHT
BEGIN:STANDARD
TZOFFSETFROM:-0500
TZOFFSETTO:-0600
TZNAME:CST
DTSTART:20241103T070000
END:STANDARD
BEGIN:DAYLIGHT
TZOFFSETFROM:-0600
TZOFFSETTO:-0500
TZNAME:CDT
DTSTART:20250309T080000
END:DAYLIGHT
BEGIN:STANDARD
TZOFFSETFROM:-0500
TZOFFSETTO:-0600
TZNAME:CST
DTSTART:20251102T070000
END:STANDARD
BEGIN:DAYLIGHT
TZOFFSETFROM:-0600
TZOFFSETTO:-0500
TZNAME:CDT
DTSTART:20260308T080000
END:DAYLIGHT
BEGIN:STANDARD
TZOFFSETFROM:-0500
TZOFFSETTO:-0600
TZNAME:CST
DTSTART:20261101T070000
END:STANDARD
END:VTIMEZONE
BEGIN:VEVENT
DTSTART;TZID=America/Chicago:20250119T133000
DTEND;TZID=America/Chicago:20250119T143000
DTSTAMP:20260423T074058
CREATED:20250124T062936Z
LAST-MODIFIED:20250618T163515Z
UID:174-1737293400-1737297000@theresabritt.com
SUMMARY:Suzuki Group Rehearsal
DESCRIPTION:
URL:https://theresabritt.com/event/suzuki-group-rehearsal/
LOCATION:Hill Country Evangelical Free Church\n107 E Lower Crabapple Rd\nFredericksburg TX 78624
END:VEVENT
BEGIN:VEVENT
DTSTART;TZID=America/Chicago:20250119T150000
DTEND;TZID=America/Chicago:20250119T160000
DTSTAMP:20260423T074058
CREATED:20250124T062936Z
LAST-MODIFIED:20250618T163515Z
UID:175-1737298800-1737302400@theresabritt.com
SUMMARY:Suzuki FCO Playdown Concert
DESCRIPTION:
URL:https://theresabritt.com/event/suzuki-fco-playdown-concert/
END:VEVENT
END:VCALENDAR